Package: cpvSNP Version: 1.41.0 Command: /home/biocbuild/R/R/bin/R CMD build --keep-empty-dirs --no-resave-data cpvSNP StartedAt: 2025-07-24 23:51:22 -0000 (Thu, 24 Jul 2025) EndedAt: 2025-07-24 23:52:38 -0000 (Thu, 24 Jul 2025) EllapsedTime: 76.0 seconds RetCode: 0 Status: OK PackageFile: cpvSNP_1.41.0.tar.gz PackageFileSize: 1.991 MiB