Package: cpvSNP Version: 1.41.0 Command: /home/biocbuild/bbs-3.22-bioc/R/bin/R CMD INSTALL cpvSNP StartedAt: 2025-07-01 15:41:53 -0400 (Tue, 01 Jul 2025) EndedAt: 2025-07-01 15:42:32 -0400 (Tue, 01 Jul 2025) EllapsedTime: 38.8 seconds RetCode: 0 Status: OK