Package: cpvSNP Version: 1.41.0 Command: /home/biocbuild/bbs-3.22-bioc/R/bin/R CMD build --keep-empty-dirs --no-resave-data --md5 cpvSNP StartedAt: 2025-07-01 16:44:41 -0400 (Tue, 01 Jul 2025) EndedAt: 2025-07-01 16:45:45 -0400 (Tue, 01 Jul 2025) EllapsedTime: 64.1 seconds RetCode: 0 Status: OK PackageFile: cpvSNP_1.41.0.tar.gz PackageFileSize: 2.014 MiB