Package: cpvSNP Version: 1.41.0 Command: /Library/Frameworks/R.framework/Resources/bin/R CMD INSTALL cpvSNP StartedAt: 2025-07-20 15:45:48 -0400 (Sun, 20 Jul 2025) EndedAt: 2025-07-20 15:46:40 -0400 (Sun, 20 Jul 2025) EllapsedTime: 52.2 seconds RetCode: 0 Status: OK