Package: cpvSNP Version: 1.41.0 Command: /Library/Frameworks/R.framework/Resources/bin/R CMD check --install=check:cpvSNP.install-out.txt --library=/Library/Frameworks/R.framework/Resources/library --no-vignettes --timings cpvSNP_1.41.0.tar.gz StartedAt: 2025-07-20 20:05:09 -0400 (Sun, 20 Jul 2025) EndedAt: 2025-07-20 20:10:20 -0400 (Sun, 20 Jul 2025) EllapsedTime: 311.4 seconds RetCode: 0 Status: OK CheckDir: cpvSNP.Rcheck Warnings: 0