Package: cpvSNP Version: 1.41.0 Command: /Library/Frameworks/R.framework/Resources/bin/R CMD build --keep-empty-dirs --no-resave-data cpvSNP StartedAt: 2025-07-20 16:35:17 -0400 (Sun, 20 Jul 2025) EndedAt: 2025-07-20 16:36:25 -0400 (Sun, 20 Jul 2025) EllapsedTime: 67.2 seconds RetCode: 0 Status: OK PackageFile: cpvSNP_1.41.0.tar.gz PackageFileSize: 2.002 MiB