Package: cpvSNP Version: 1.41.0 Command: /Library/Frameworks/R.framework/Resources/bin/R CMD build --keep-empty-dirs --no-resave-data cpvSNP StartedAt: 2025-07-21 15:58:49 -0400 (Mon, 21 Jul 2025) EndedAt: 2025-07-21 15:59:16 -0400 (Mon, 21 Jul 2025) EllapsedTime: 26.3 seconds RetCode: 0 Status: OK PackageFile: cpvSNP_1.41.0.tar.gz PackageFileSize: 2.005 MiB