Package: cpvSNP Version: 1.41.0 Command: rm -rf cpvSNP.buildbin-libdir && mkdir cpvSNP.buildbin-libdir && /Users/biocbuild/BBS/utils/build-universal.sh cpvSNP_1.41.0.tar.gz /Library/Frameworks/R.framework/Resources/bin/R cpvSNP.buildbin-libdir StartedAt: 2025-07-21 22:21:46 -0400 (Mon, 21 Jul 2025) EndedAt: 2025-07-21 22:22:03 -0400 (Mon, 21 Jul 2025) EllapsedTime: 17.3 seconds RetCode: 0 Status: OK PackageFile: cpvSNP_1.41.0.tgz PackageFileSize: 2.378 MiB