Package: covRNA Version: 1.35.0 Command: F:\biocbuild\bbs-3.22-bioc\R\bin\R.exe CMD INSTALL covRNA StartedAt: 2025-07-22 16:33:29 -0400 (Tue, 22 Jul 2025) EndedAt: 2025-07-22 16:33:54 -0400 (Tue, 22 Jul 2025) EllapsedTime: 24.6 seconds RetCode: 0 Status: OK