Package: covRNA Version: 1.35.0 Command: rm -rf covRNA.buildbin-libdir && mkdir covRNA.buildbin-libdir && F:\biocbuild\bbs-3.22-bioc\R\bin\R.exe CMD INSTALL --build --library=covRNA.buildbin-libdir covRNA_1.35.0.tar.gz StartedAt: 2025-07-23 08:52:58 -0400 (Wed, 23 Jul 2025) EndedAt: 2025-07-23 08:53:20 -0400 (Wed, 23 Jul 2025) EllapsedTime: 22.9 seconds RetCode: 0 Status: OK PackageFile: covRNA_1.35.0.zip PackageFileSize: 560.3 KiB