Package: covEB Version: 1.35.0 Command: /home/biocbuild/R/R/bin/R CMD INSTALL covEB StartedAt: 2025-07-21 20:34:28 -0000 (Mon, 21 Jul 2025) EndedAt: 2025-07-21 20:34:37 -0000 (Mon, 21 Jul 2025) EllapsedTime: 9.5 seconds RetCode: 0 Status: OK