Package: covEB Version: 1.35.0 Command: /home/biocbuild/R/R/bin/R CMD build --keep-empty-dirs --no-resave-data covEB StartedAt: 2025-07-21 22:59:01 -0000 (Mon, 21 Jul 2025) EndedAt: 2025-07-21 22:59:21 -0000 (Mon, 21 Jul 2025) EllapsedTime: 20.0 seconds RetCode: 0 Status: OK PackageFile: covEB_1.35.0.tar.gz PackageFileSize: 111.9 KiB