Package: cosmosR Version: 1.17.0 Command: /Library/Frameworks/R.framework/Resources/bin/R CMD check --install=check:cosmosR.install-out.txt --library=/Library/Frameworks/R.framework/Resources/library --no-vignettes --timings cosmosR_1.17.0.tar.gz StartedAt: 2025-06-27 18:40:11 -0400 (Fri, 27 Jun 2025) EndedAt: 2025-06-27 18:40:44 -0400 (Fri, 27 Jun 2025) EllapsedTime: 33.4 seconds RetCode: 0 Status: OK CheckDir: cosmosR.Rcheck Warnings: 0