Package: cosmiq Version: 1.43.0 Command: /home/biocbuild/R/R/bin/R CMD INSTALL cosmiq StartedAt: 2025-06-30 21:02:56 -0000 (Mon, 30 Jun 2025) EndedAt: 2025-06-30 21:03:49 -0000 (Mon, 30 Jun 2025) EllapsedTime: 53.1 seconds RetCode: 0 Status: OK