Package: cosmiq Version: 1.43.0 Command: /home/biocbuild/R/R/bin/R CMD check --install=check:cosmiq.install-out.txt --library=/home/biocbuild/R/R/site-library --no-vignettes --timings cosmiq_1.43.0.tar.gz StartedAt: 2025-07-01 06:11:11 -0000 (Tue, 01 Jul 2025) EndedAt: 2025-07-01 06:17:43 -0000 (Tue, 01 Jul 2025) EllapsedTime: 391.4 seconds RetCode: 0 Status: OK CheckDir: cosmiq.Rcheck Warnings: 0