Package: cosmiq Version: 1.43.0 Command: /home/biocbuild/R/R/bin/R CMD build --keep-empty-dirs --no-resave-data cosmiq StartedAt: 2025-06-30 22:50:54 -0000 (Mon, 30 Jun 2025) EndedAt: 2025-06-30 22:53:47 -0000 (Mon, 30 Jun 2025) EllapsedTime: 173.1 seconds RetCode: 0 Status: OK PackageFile: cosmiq_1.43.0.tar.gz PackageFileSize: 534.7 KiB