Package: cosmiq Version: 1.43.0 Command: F:\biocbuild\bbs-3.22-bioc\R\bin\R.exe CMD INSTALL cosmiq StartedAt: 2025-07-14 16:26:34 -0400 (Mon, 14 Jul 2025) EndedAt: 2025-07-14 16:27:22 -0400 (Mon, 14 Jul 2025) EllapsedTime: 48.1 seconds RetCode: 0 Status: OK