Package: cosmiq Version: 1.43.0 Command: rm -rf cosmiq.buildbin-libdir && mkdir cosmiq.buildbin-libdir && F:\biocbuild\bbs-3.22-bioc\R\bin\R.exe CMD INSTALL --build --library=cosmiq.buildbin-libdir cosmiq_1.43.0.tar.gz StartedAt: 2025-07-15 08:42:01 -0400 (Tue, 15 Jul 2025) EndedAt: 2025-07-15 08:42:47 -0400 (Tue, 15 Jul 2025) EllapsedTime: 46.0 seconds RetCode: 0 Status: OK PackageFile: cosmiq_1.43.0.zip PackageFileSize: 297 KiB