Package: cosmiq Version: 1.43.0 Command: /Library/Frameworks/R.framework/Resources/bin/R CMD INSTALL cosmiq StartedAt: 2025-07-01 15:53:52 -0400 (Tue, 01 Jul 2025) EndedAt: 2025-07-01 15:54:46 -0400 (Tue, 01 Jul 2025) EllapsedTime: 54.3 seconds RetCode: 0 Status: OK