Package: cosmiq Version: 1.43.0 Command: /Library/Frameworks/R.framework/Resources/bin/R CMD build --keep-empty-dirs --no-resave-data cosmiq StartedAt: 2025-07-01 16:36:42 -0400 (Tue, 01 Jul 2025) EndedAt: 2025-07-01 16:39:17 -0400 (Tue, 01 Jul 2025) EllapsedTime: 155.2 seconds RetCode: 0 Status: OK PackageFile: cosmiq_1.43.0.tar.gz PackageFileSize: 538.9 KiB