Package: cosmiq Version: 1.43.0 Command: rm -rf cosmiq.buildbin-libdir && mkdir cosmiq.buildbin-libdir && /Users/biocbuild/BBS/utils/build-universal.sh cosmiq_1.43.0.tar.gz /Library/Frameworks/R.framework/Resources/bin/R cosmiq.buildbin-libdir StartedAt: 2025-07-02 00:52:05 -0400 (Wed, 02 Jul 2025) EndedAt: 2025-07-02 00:53:03 -0400 (Wed, 02 Jul 2025) EllapsedTime: 57.7 seconds RetCode: 0 Status: OK PackageFile: cosmiq_1.43.0.tgz PackageFileSize: 288.4 KiB