Package: corral Version: 1.19.0 Command: F:\biocbuild\bbs-3.22-bioc\R\bin\R.exe CMD check --no-multiarch --install=check:corral.install-out.txt --library=F:\biocbuild\bbs-3.22-bioc\R\library --no-vignettes --timings corral_1.19.0.tar.gz StartedAt: 2025-07-12 00:41:24 -0400 (Sat, 12 Jul 2025) EndedAt: 2025-07-12 00:47:24 -0400 (Sat, 12 Jul 2025) EllapsedTime: 360.1 seconds RetCode: 0 Status: OK CheckDir: corral.Rcheck Warnings: 0