Package: copa Version: 1.77.0 Command: /home/biocbuild/R/R/bin/R CMD INSTALL copa StartedAt: 2025-07-14 20:26:02 -0000 (Mon, 14 Jul 2025) EndedAt: 2025-07-14 20:26:14 -0000 (Mon, 14 Jul 2025) EllapsedTime: 12.0 seconds RetCode: 0 Status: OK