Package: copa Version: 1.77.0 Command: /home/biocbuild/R/R/bin/R CMD build --keep-empty-dirs --no-resave-data copa StartedAt: 2025-07-14 22:47:50 -0000 (Mon, 14 Jul 2025) EndedAt: 2025-07-14 22:47:59 -0000 (Mon, 14 Jul 2025) EllapsedTime: 9.0 seconds RetCode: 0 Status: OK PackageFile: copa_1.77.0.tar.gz PackageFileSize: 115.9 KiB