Package: copa Version: 1.77.0 Command: /Library/Frameworks/R.framework/Resources/bin/R CMD INSTALL copa StartedAt: 2025-10-05 15:15:48 -0400 (Sun, 05 Oct 2025) EndedAt: 2025-10-05 15:16:04 -0400 (Sun, 05 Oct 2025) EllapsedTime: 16.6 seconds RetCode: 0 Status: OK