Package: copa Version: 1.77.0 Command: /Library/Frameworks/R.framework/Resources/bin/R CMD build --keep-empty-dirs --no-resave-data copa StartedAt: 2025-07-11 15:56:58 -0400 (Fri, 11 Jul 2025) EndedAt: 2025-07-11 15:57:03 -0400 (Fri, 11 Jul 2025) EllapsedTime: 5.1 seconds RetCode: 0 Status: OK PackageFile: copa_1.77.0.tar.gz PackageFileSize: 121 KiB