Package: convert Version: 1.85.0 Command: /Library/Frameworks/R.framework/Resources/bin/R CMD INSTALL convert StartedAt: 2025-07-22 15:13:11 -0400 (Tue, 22 Jul 2025) EndedAt: 2025-07-22 15:13:21 -0400 (Tue, 22 Jul 2025) EllapsedTime: 9.6 seconds RetCode: 0 Status: OK