Package: convert Version: 1.85.0 Command: /Library/Frameworks/R.framework/Resources/bin/R CMD build --keep-empty-dirs --no-resave-data convert StartedAt: 2025-07-22 16:24:11 -0400 (Tue, 22 Jul 2025) EndedAt: 2025-07-22 16:24:22 -0400 (Tue, 22 Jul 2025) EllapsedTime: 11.4 seconds RetCode: 0 Status: OK PackageFile: convert_1.85.0.tar.gz PackageFileSize: 136.6 KiB