Package: convert Version: 1.85.0 Command: /Library/Frameworks/R.framework/Resources/bin/R CMD INSTALL convert StartedAt: 2025-07-24 15:16:24 -0400 (Thu, 24 Jul 2025) EndedAt: 2025-07-24 15:16:26 -0400 (Thu, 24 Jul 2025) EllapsedTime: 2.2 seconds RetCode: 0 Status: OK