Package: convert Version: 1.85.0 Command: /Library/Frameworks/R.framework/Resources/bin/R CMD build --keep-empty-dirs --no-resave-data convert StartedAt: 2025-07-24 16:07:15 -0400 (Thu, 24 Jul 2025) EndedAt: 2025-07-24 16:07:19 -0400 (Thu, 24 Jul 2025) EllapsedTime: 4.1 seconds RetCode: 0 Status: OK PackageFile: convert_1.85.0.tar.gz PackageFileSize: 136.7 KiB