Package: conumee Version: 1.43.0 Command: /Library/Frameworks/R.framework/Resources/bin/R CMD INSTALL conumee StartedAt: 2025-07-13 15:22:21 -0400 (Sun, 13 Jul 2025) EndedAt: 2025-07-13 15:24:05 -0400 (Sun, 13 Jul 2025) EllapsedTime: 104.2 seconds RetCode: 0 Status: OK