Package: consensusSeekeR Version: 1.37.0 Command: F:\biocbuild\bbs-3.22-bioc\R\bin\R.exe CMD INSTALL consensusSeekeR StartedAt: 2025-07-01 16:34:12 -0400 (Tue, 01 Jul 2025) EndedAt: 2025-07-01 16:35:07 -0400 (Tue, 01 Jul 2025) EllapsedTime: 55.1 seconds RetCode: 0 Status: OK