Package: consensusSeekeR Version: 1.37.0 Command: F:\biocbuild\bbs-3.22-bioc\R\bin\R.exe CMD check --no-multiarch --install=check:consensusSeekeR.install-out.txt --library=F:\biocbuild\bbs-3.22-bioc\R\library --no-vignettes --timings consensusSeekeR_1.37.0.tar.gz StartedAt: 2025-07-02 00:41:39 -0400 (Wed, 02 Jul 2025) EndedAt: 2025-07-02 00:46:37 -0400 (Wed, 02 Jul 2025) EllapsedTime: 298.2 seconds RetCode: 0 Status: OK CheckDir: consensusSeekeR.Rcheck Warnings: 0