Package: consensusSeekeR Version: 1.37.0 Command: chmod a+r consensusSeekeR -R && F:\biocbuild\bbs-3.22-bioc\R\bin\R.exe CMD build --keep-empty-dirs --no-resave-data consensusSeekeR StartedAt: 2025-07-01 18:10:25 -0400 (Tue, 01 Jul 2025) EndedAt: 2025-07-01 18:12:37 -0400 (Tue, 01 Jul 2025) EllapsedTime: 131.9 seconds RetCode: 0 Status: OK PackageFile: consensusSeekeR_1.37.0.tar.gz PackageFileSize: 739.5 KiB