Package: consensusSeekeR Version: 1.37.0 Command: rm -rf consensusSeekeR.buildbin-libdir && mkdir consensusSeekeR.buildbin-libdir && F:\biocbuild\bbs-3.22-bioc\R\bin\R.exe CMD INSTALL --build --library=consensusSeekeR.buildbin-libdir consensusSeekeR_1.37.0.tar.gz StartedAt: 2025-07-02 08:37:15 -0400 (Wed, 02 Jul 2025) EndedAt: 2025-07-02 08:38:53 -0400 (Wed, 02 Jul 2025) EllapsedTime: 98.5 seconds RetCode: 0 Status: OK PackageFile: consensusSeekeR_1.37.0.zip PackageFileSize: 626.8 KiB