Package: consensusSeekeR Version: 1.37.0 Command: /Library/Frameworks/R.framework/Resources/bin/R CMD INSTALL consensusSeekeR StartedAt: 2025-07-01 15:14:57 -0400 (Tue, 01 Jul 2025) EndedAt: 2025-07-01 15:15:10 -0400 (Tue, 01 Jul 2025) EllapsedTime: 12.3 seconds RetCode: 0 Status: OK