Package: consensusSeekeR Version: 1.37.0 Command: /Library/Frameworks/R.framework/Resources/bin/R CMD check --install=check:consensusSeekeR.install-out.txt --library=/Library/Frameworks/R.framework/Resources/library --no-vignettes --timings consensusSeekeR_1.37.0.tar.gz StartedAt: 2025-07-01 18:39:06 -0400 (Tue, 01 Jul 2025) EndedAt: 2025-07-01 18:40:38 -0400 (Tue, 01 Jul 2025) EllapsedTime: 92.1 seconds RetCode: 0 Status: OK CheckDir: consensusSeekeR.Rcheck Warnings: 0