Package: consensusSeekeR Version: 1.37.0 Command: /Library/Frameworks/R.framework/Resources/bin/R CMD build --keep-empty-dirs --no-resave-data consensusSeekeR StartedAt: 2025-07-01 15:56:41 -0400 (Tue, 01 Jul 2025) EndedAt: 2025-07-01 15:57:01 -0400 (Tue, 01 Jul 2025) EllapsedTime: 20.2 seconds RetCode: 0 Status: OK PackageFile: consensusSeekeR_1.37.0.tar.gz PackageFileSize: 739.5 KiB