Package: consensusSeekeR Version: 1.37.0 Command: rm -rf consensusSeekeR.buildbin-libdir && mkdir consensusSeekeR.buildbin-libdir && /Users/biocbuild/BBS/utils/build-universal.sh consensusSeekeR_1.37.0.tar.gz /Library/Frameworks/R.framework/Resources/bin/R consensusSeekeR.buildbin-libdir StartedAt: 2025-07-01 22:14:58 -0400 (Tue, 01 Jul 2025) EndedAt: 2025-07-01 22:15:12 -0400 (Tue, 01 Jul 2025) EllapsedTime: 13.2 seconds RetCode: 0 Status: OK PackageFile: consensusSeekeR_1.37.0.tgz PackageFileSize: 616.4 KiB