Package: consensusOV Version: 1.31.0 Command: /home/biocbuild/R/R/bin/R CMD INSTALL consensusOV StartedAt: 2025-07-10 22:11:23 -0000 (Thu, 10 Jul 2025) EndedAt: 2025-07-10 22:12:27 -0000 (Thu, 10 Jul 2025) EllapsedTime: 63.6 seconds RetCode: 0 Status: OK