Package: consensusOV Version: 1.31.0 Command: F:\biocbuild\bbs-3.22-bioc\R\bin\R.exe CMD INSTALL consensusOV StartedAt: 2025-07-24 17:02:39 -0400 (Thu, 24 Jul 2025) EndedAt: 2025-07-24 17:03:48 -0400 (Thu, 24 Jul 2025) EllapsedTime: 68.7 seconds RetCode: 0 Status: OK