Package: consensusOV Version: 1.31.0 Command: chmod a+r consensusOV -R && F:\biocbuild\bbs-3.22-bioc\R\bin\R.exe CMD build --keep-empty-dirs --no-resave-data consensusOV StartedAt: 2025-07-24 18:21:55 -0400 (Thu, 24 Jul 2025) EndedAt: 2025-07-24 18:24:43 -0400 (Thu, 24 Jul 2025) EllapsedTime: 168.1 seconds RetCode: 0 Status: OK PackageFile: consensusOV_1.31.0.tar.gz PackageFileSize: 3.17 MiB