Package: consensusOV Version: 1.31.0 Command: /Library/Frameworks/R.framework/Resources/bin/R CMD INSTALL consensusOV StartedAt: 2025-07-15 15:28:59 -0400 (Tue, 15 Jul 2025) EndedAt: 2025-07-15 15:29:22 -0400 (Tue, 15 Jul 2025) EllapsedTime: 22.7 seconds RetCode: 0 Status: OK