Package: consensusOV Version: 1.31.0 Command: rm -rf consensusOV.buildbin-libdir && mkdir consensusOV.buildbin-libdir && /Users/biocbuild/BBS/utils/build-universal.sh consensusOV_1.31.0.tar.gz /Library/Frameworks/R.framework/Resources/bin/R consensusOV.buildbin-libdir StartedAt: 2025-07-16 22:14:16 -0400 (Wed, 16 Jul 2025) EndedAt: 2025-07-16 22:14:41 -0400 (Wed, 16 Jul 2025) EllapsedTime: 24.5 seconds RetCode: 0 Status: OK PackageFile: consensusOV_1.31.0.tgz PackageFileSize: 4.519 MiB