Package: consensusDE Version: 1.27.0 Command: /home/biocbuild/R/R/bin/R CMD check --install=check:consensusDE.install-out.txt --library=/home/biocbuild/R/R/site-library --no-vignettes --timings consensusDE_1.27.0.tar.gz StartedAt: 2025-07-01 06:07:15 -0000 (Tue, 01 Jul 2025) EndedAt: 2025-07-01 06:13:46 -0000 (Tue, 01 Jul 2025) EllapsedTime: 390.3 seconds RetCode: 0 Status: OK CheckDir: consensusDE.Rcheck Warnings: 0