Package: consensusDE Version: 1.27.0 Command: /Library/Frameworks/R.framework/Resources/bin/R CMD INSTALL consensusDE StartedAt: 2025-07-24 15:36:41 -0400 (Thu, 24 Jul 2025) EndedAt: 2025-07-24 15:37:00 -0400 (Thu, 24 Jul 2025) EllapsedTime: 19.0 seconds RetCode: 0 Status: OK