Package: consensus Version: 1.27.0 Command: /Library/Frameworks/R.framework/Resources/bin/R CMD INSTALL consensus StartedAt: 2025-07-14 15:21:14 -0400 (Mon, 14 Jul 2025) EndedAt: 2025-07-14 15:21:45 -0400 (Mon, 14 Jul 2025) EllapsedTime: 31.0 seconds RetCode: 0 Status: OK