Package: consensus Version: 1.27.0 Command: rm -rf consensus.buildbin-libdir && mkdir consensus.buildbin-libdir && /Users/biocbuild/BBS/utils/build-universal.sh consensus_1.27.0.tar.gz /Library/Frameworks/R.framework/Resources/bin/R consensus.buildbin-libdir StartedAt: 2025-07-15 00:51:32 -0400 (Tue, 15 Jul 2025) EndedAt: 2025-07-15 00:51:38 -0400 (Tue, 15 Jul 2025) EllapsedTime: 5.8 seconds RetCode: 0 Status: OK PackageFile: consensus_1.27.0.tgz PackageFileSize: 1.097 MiB