Package: consICA Version: 2.7.0 Command: /home/biocbuild/bbs-3.22-bioc/R/bin/R CMD check --install=check:consICA.install-out.txt --library=/home/biocbuild/bbs-3.22-bioc/R/site-library --timings consICA_2.7.0.tar.gz StartedAt: 2025-07-13 21:07:27 -0400 (Sun, 13 Jul 2025) EndedAt: 2025-07-13 21:17:44 -0400 (Sun, 13 Jul 2025) EllapsedTime: 616.6 seconds RetCode: 0 Status: OK CheckDir: consICA.Rcheck Warnings: 0