Package: consICA Version: 2.7.0 Command: /Library/Frameworks/R.framework/Resources/bin/R CMD INSTALL consICA StartedAt: 2025-07-11 15:33:00 -0400 (Fri, 11 Jul 2025) EndedAt: 2025-07-11 15:33:43 -0400 (Fri, 11 Jul 2025) EllapsedTime: 43.2 seconds RetCode: 0 Status: OK